BEGIN:VCALENDAR
VERSION:2.0
PRODID:-//Kobayashi Ryu Aikido - ECPv6.15.13//NONSGML v1.0//EN
CALSCALE:GREGORIAN
METHOD:PUBLISH
X-ORIGINAL-URL:https://aikido-kobayashi.org
X-WR-CALDESC:Évènements pour Kobayashi Ryu Aikido
REFRESH-INTERVAL;VALUE=DURATION:PT1H
X-Robots-Tag:noindex
X-PUBLISHED-TTL:PT1H
BEGIN:VTIMEZONE
TZID:Europe/Paris
BEGIN:DAYLIGHT
TZOFFSETFROM:+0100
TZOFFSETTO:+0200
TZNAME:CEST
DTSTART:20250330T010000
END:DAYLIGHT
BEGIN:STANDARD
TZOFFSETFROM:+0200
TZOFFSETTO:+0100
TZNAME:CET
DTSTART:20251026T010000
END:STANDARD
BEGIN:DAYLIGHT
TZOFFSETFROM:+0100
TZOFFSETTO:+0200
TZNAME:CEST
DTSTART:20260329T010000
END:DAYLIGHT
BEGIN:STANDARD
TZOFFSETFROM:+0200
TZOFFSETTO:+0100
TZNAME:CET
DTSTART:20261025T010000
END:STANDARD
BEGIN:DAYLIGHT
TZOFFSETFROM:+0100
TZOFFSETTO:+0200
TZNAME:CEST
DTSTART:20270328T010000
END:DAYLIGHT
BEGIN:STANDARD
TZOFFSETFROM:+0200
TZOFFSETTO:+0100
TZNAME:CET
DTSTART:20271031T010000
END:STANDARD
END:VTIMEZONE
BEGIN:VEVENT
DTSTART;VALUE=DATE:20260514
DTEND;VALUE=DATE:20260518
DTSTAMP:20260424T010251
CREATED:20260122T184113Z
LAST-MODIFIED:20260122T184113Z
UID:5392-1778716800-1779062399@aikido-kobayashi.org
SUMMARY:Stage d'aikido de Paviot Hanshi au Pays Basque
DESCRIPTION:Paviot Hanshi dirigera un stage au Pays Basque du 14 au 17 mai 2026
URL:https://aikido-kobayashi.org/event/stage-daikido-de-paviot-hanshi-au-pays-basque/
LOCATION:Pays-Basque
CATEGORIES:Dossola Paviot Marcella
ATTACH;FMTTYPE=image/jpeg:https://aikido-kobayashi.org/wp-content/uploads/2026/01/c4bfb946-ee85-483e-8004-83b2851a4155.jpg
ORGANIZER;CN="Yosko Navarro":MAILTO:yosko.bcn@gmail.com
END:VEVENT
END:VCALENDAR