BEGIN:VCALENDAR
VERSION:2.0
PRODID:-//Kobayashi Ryu Aikido - ECPv6.15.13//NONSGML v1.0//EN
CALSCALE:GREGORIAN
METHOD:PUBLISH
X-ORIGINAL-URL:https://aikido-kobayashi.org
X-WR-CALDESC:Évènements pour Kobayashi Ryu Aikido
REFRESH-INTERVAL;VALUE=DURATION:PT1H
X-Robots-Tag:noindex
X-PUBLISHED-TTL:PT1H
BEGIN:VTIMEZONE
TZID:Europe/Paris
BEGIN:DAYLIGHT
TZOFFSETFROM:+0100
TZOFFSETTO:+0200
TZNAME:CEST
DTSTART:20250330T010000
END:DAYLIGHT
BEGIN:STANDARD
TZOFFSETFROM:+0200
TZOFFSETTO:+0100
TZNAME:CET
DTSTART:20251026T010000
END:STANDARD
BEGIN:DAYLIGHT
TZOFFSETFROM:+0100
TZOFFSETTO:+0200
TZNAME:CEST
DTSTART:20260329T010000
END:DAYLIGHT
BEGIN:STANDARD
TZOFFSETFROM:+0200
TZOFFSETTO:+0100
TZNAME:CET
DTSTART:20261025T010000
END:STANDARD
BEGIN:DAYLIGHT
TZOFFSETFROM:+0100
TZOFFSETTO:+0200
TZNAME:CEST
DTSTART:20270328T010000
END:DAYLIGHT
BEGIN:STANDARD
TZOFFSETFROM:+0200
TZOFFSETTO:+0100
TZNAME:CET
DTSTART:20271031T010000
END:STANDARD
END:VTIMEZONE
BEGIN:VEVENT
DTSTART;VALUE=DATE:20260205
DTEND;VALUE=DATE:20260401
DTSTAMP:20260423T212758
CREATED:20260204T070400Z
LAST-MODIFIED:20260204T070704Z
UID:5416-1770249600-1775001599@aikido-kobayashi.org
SUMMARY:Résidence Aikido de Paviot Cinzia Shihan à Los Angeles (Etats-Unis)
DESCRIPTION:Paviot Cinzia  Shihan sera à Los Angeles au mois de février et mars 2026 \nPour connaître les horaires des cours et obtenir des informations supplémentaires\, veuillez le site web Los Angeles Akikai  ou contacter directement Ishibashi Shihan \nFor more information and details about classes\, please visit the Los Angeles Aikikai website or contact Ishibashi Shihan.
URL:https://aikido-kobayashi.org/event/residence-aikido-de-paviot-cinzia-shihan-a-los-angeles-etats-unis/
LOCATION:Los Angeles Aiki Kai\, 8929 Ellis Avenue\, Los Angeles\, CA\, 90034\, USA
CATEGORIES:Paviot Cinzia
ATTACH;FMTTYPE=image/jpeg:https://aikido-kobayashi.org/wp-content/uploads/2026/02/C.Paviot-_Feb-Mar2026.jpg
ORGANIZER;CN="Los Angeles Aikikai":MAILTO:laaikikai@gmail.com
END:VEVENT
BEGIN:VEVENT
DTSTART;VALUE=DATE:20260306
DTEND;VALUE=DATE:20260309
DTSTAMP:20260423T212758
CREATED:20251120T225906Z
LAST-MODIFIED:20260126T194012Z
UID:5303-1772755200-1773014399@aikido-kobayashi.org
SUMMARY:Stage de Cognard Hanshi et Cognard Shihan à Parma (Italie)
DESCRIPTION:Cognard Hanshi et Cognard Shihan dirigeront un stage d’aikido et d’aikishintaiso le 7 et 8 mars 2026 \nOuvert à tous les pratiquants d’aikido\, d’aikishintaiso et de tout art martial. \nStage d’armes : il est nécessaire d’être muni d’un jō et d’un bokken. \n=>Inscription obligatoire<= pour l’accès au dojo.\nStage complet : 90 €Aikido : 75 €Aikishintaiso : 50 €Cours à l’unité : 30 € \nDÎNERUn dîner convivial est organisé le samedi soir au restaurant La Corale Verdi à Parme\, vicolo Ascente 9.La participation sera d’environ 45 €. \nHÉBERGEMENTEn plus des plateformes de réservation en ligne\, nous vous suggérons les hébergements suivants : \n\n\nGuest house : www.forumguesthouse.it(Lucio +39 342 363 8090) \n\n\nIl est également possible de loger au dojo de la via Burla(contacter Francesca Grisenti au +39 349 673 0382) \n\n\nNous remercions Massimo Alfieri pour son aimable accueil (CSEN). \nInformations & réservations : stagealpa@gmail.com \ninformation (EN)\ninformazioni (IT) \nUne conférence se déroulera le vendredi 6 mars 2026 sur la thématique : « Ce que sait un corps. Mémoire\, identité\, violence » avec Giacomo RIZZOLATTI ; André COGNARD ; Maurizio STUPIGGIA.\n=> Informations sur la Conférence 
URL:https://aikido-kobayashi.org/event/stage-de-cognard-hanshi-et-cognard-shihan-a-parma-italie/
LOCATION:Parma\, Parma\, Italy
CATEGORIES:Cognard Anne,Cognard Hanshi
ATTACH;FMTTYPE=image/png:https://aikido-kobayashi.org/wp-content/uploads/2026/01/Volantino-Stage-2026-1-ENG.png
ORGANIZER;CN="ALPA":MAILTO:segreteria@alpa-aikido.it
END:VEVENT
BEGIN:VEVENT
DTSTART;VALUE=DATE:20260307
DTEND;VALUE=DATE:20260309
DTSTAMP:20260423T212758
CREATED:20250922T203058Z
LAST-MODIFIED:20260223T184812Z
UID:5213-1772841600-1773014399@aikido-kobayashi.org
SUMMARY:Prépa Dan par Marchand Shihan
DESCRIPTION:Marchand Kyoshi dirigera une prépa dan en Bretagne et Normandie
URL:https://aikido-kobayashi.org/event/prepa-dan-par-marchand-kyoshi/
LOCATION:Bretagne ou Normandie
CATEGORIES:Marchand Jérôme
ATTACH;FMTTYPE=image/jpeg:https://aikido-kobayashi.org/wp-content/uploads/2025/09/prepa-dan-2526.jpg
ORGANIZER;CN="J%C3%A9r%C3%B4me Marchand":MAILTO:jmarchand@aikido-kobayashi.org
END:VEVENT
BEGIN:VEVENT
DTSTART;VALUE=DATE:20260307
DTEND;VALUE=DATE:20260309
DTSTAMP:20260423T212758
CREATED:20260120T210729Z
LAST-MODIFIED:20260120T210952Z
UID:5389-1772841600-1773014399@aikido-kobayashi.org
SUMMARY:Stage d'aikido de Matoian Shihan à Marseille (13)
DESCRIPTION:Matoian Shihan dirigera un stage à Marseille le 7 et 8 mars 2026
URL:https://aikido-kobayashi.org/event/stage-daikido-de-matoian-shihan-a-marseille-13/
LOCATION:Centre Fissiaux\, 2 avenue Foch\, Marseille\, 13004\, France
CATEGORIES:Matoian Patrick
ATTACH;FMTTYPE=image/jpeg:https://aikido-kobayashi.org/wp-content/uploads/2026/01/MPS_Marseille_mars_2026.jpeg
ORGANIZER;CN="Aikido Marseille":MAILTO:marseille@aikido.fr
END:VEVENT
BEGIN:VEVENT
DTSTART;VALUE=DATE:20260310
DTEND;VALUE=DATE:20260311
DTSTAMP:20260423T212758
CREATED:20260218T160747Z
LAST-MODIFIED:20260218T161230Z
UID:5486-1773100800-1773187199@aikido-kobayashi.org
SUMMARY:Soirée Aikishintaiso sous la direction de Cognard Shihan à Lyon (69)
DESCRIPTION:Cognard Anne Shihan dirigera une soirée aikishintaiso à Lyon le mardi 10 mars 2026 à 20h30
URL:https://aikido-kobayashi.org/event/soiree-aikishintaiso-sous-la-direction-de-cognard-shihan-a-lyon-69/
LOCATION:Espace Undokai\, 2\, place de Francfort\, Lyon\, 69003
CATEGORIES:Cognard Anne
ATTACH;FMTTYPE=image/jpeg:https://aikido-kobayashi.org/wp-content/uploads/2026/02/IMG_0328.jpg
ORGANIZER;CN="ARAL":MAILTO:rhone@aikido.fr
END:VEVENT
BEGIN:VEVENT
DTSTART;VALUE=DATE:20260314
DTEND;VALUE=DATE:20260316
DTSTAMP:20260423T212758
CREATED:20260217T165421Z
LAST-MODIFIED:20260217T165534Z
UID:5472-1773446400-1773619199@aikido-kobayashi.org
SUMMARY:Stage de Cognard Hanshi à Varsovie (Pologne)
DESCRIPTION:Cognard Hanshi dirigera un stage à Varsovie le 14 et 15 mats 2026 \n  \nsobota : 13:00 – 17:00\nniedziela 10:00 – 13:00 \n— \nPawilon Sportów Walki AWF ul. Marymoncka 34 \nKoszt stazu 300 zl (do 16 lat 250 zt) 200 zl jeden dzien \nKontakt: tel. 609 366 060
URL:https://aikido-kobayashi.org/event/stage-de-cognard-hanshi-a-varsovie-pologne/
LOCATION:Varsovie\, Pologne
CATEGORIES:Cognard Hanshi
ATTACH;FMTTYPE=image/jpeg:https://aikido-kobayashi.org/wp-content/uploads/2026/02/Pologne-Mars-26.jpg
ORGANIZER;CN="PAAKH":MAILTO:glozders@post.pl
END:VEVENT
BEGIN:VEVENT
DTSTART;VALUE=DATE:20260320
DTEND;VALUE=DATE:20260323
DTSTAMP:20260423T212758
CREATED:20251214T165236Z
LAST-MODIFIED:20251214T165425Z
UID:5357-1773964800-1774223999@aikido-kobayashi.org
SUMMARY:Stage d’aikido et d’aikishintaiso de Cognard Hanshi et Cognard Shihan en Bretagne
DESCRIPTION:Cognard Hanshi et Cognard Shihan dirigeront un stage d’aikido et d’aikishintaiso en Bretagne le 20\, 21 et 22 mars 2026 \n  \nTarif week-end : 70€ Aikido – 50€ Aikishintaiso\, 100€ les deux\nTarif au cours : 25€ Aikido – 20€ Aikishintaiso\n1/2 tarif étudiant/enfant \nInscription passage de grade : jmarchand@aikido-kobayashi.org\nRenseignements : a.lemartret@yahoo.fr
URL:https://aikido-kobayashi.org/event/stage-daikido-et-daikishintaiso-de-cognard-hanshi-et-cognard-shihan-en-bretagne/
LOCATION:Bretagne\, France
CATEGORIES:Cognard Anne,Cognard Hanshi
ATTACH;FMTTYPE=image/jpeg:https://aikido-kobayashi.org/wp-content/uploads/2025/12/25138_AIKI_Affiche-stage-maitre_2.jpg
END:VEVENT
BEGIN:VEVENT
DTSTART;VALUE=DATE:20260328
DTEND;VALUE=DATE:20260330
DTSTAMP:20260423T212758
CREATED:20260218T161621Z
LAST-MODIFIED:20260218T161621Z
UID:5489-1774656000-1774828799@aikido-kobayashi.org
SUMMARY:Stage d'aikido de Baron Shihan à Saint-Just-la-Pendue (42)
DESCRIPTION:Baron Shihan dirigera stage à la maison Ume le 28 et 29 mars 2026
URL:https://aikido-kobayashi.org/event/stage-daikido-de-baron-shihan-a-saint-just-la-pendue-42/
LOCATION:Maison Ume\, 330 Rue du Commerce\, Saint-Just-la-Pendue\, 42540\, France
CATEGORIES:Baron Baptiste
ATTACH;FMTTYPE=image/jpeg:https://aikido-kobayashi.org/wp-content/uploads/2026/02/IMG_0330.jpg
ORGANIZER;CN="Maison UME":MAILTO:lamaisonume@gmail.com
END:VEVENT
END:VCALENDAR